BEGIN:VCALENDAR
VERSION:2.0
CALSCALE:GREGORIAN
PRODID:-//MyApp//Calendar 1.0//EN
BEGIN:VEVENT
METHOD:PUBLISH
UID:46317@regionalniportaly.cz
DTSTAMP:20260426T041621Z
DTSTART;VALUE=DATE:20241116
DTEND;VALUE=DATE:20241117
SUMMARY:Citron & Metalinda - KD Rosice
DESCRIPTION:Citron &amp\; Metalinda &amp\; Aldabra&nbsp\;České a Slovenské hard and heavy legendy CITRON\, METALINDA vyrážejí&nbsp\; 16.11. 2024 do KD Rosice u Brna!&nbsp\;Předprodej zahájen : https://www.smsticket.cz/vstupenky/48756-citron-metalinda-kd-rosice-kd-cristal-rosice-rosice&nbsp\;Kapelník CITRONU\, Radim Pařízek mladší říká: „Jsem rád\, že jsme si v kapele vše vyříkali a můžeme jít zase dál.&nbsp\; Na koncertech nebudou chybět starší\, ani nové hity a vzpomeneme na celou historii kapely a její členy. Těšíme se na společné chvíle s Metalindou\, se kterými podpoříme československého ducha z minulých turné a jistě nabídneme fanouškům jedinečný koncertní zážitek.”&nbsp\; Citron vystoupí v plné sestavě v podobě Láďa Křížek\, Tanja\, Radim Pařízek ml.\, Pavel Hanus\, Zdeněk Pradlovský.&nbsp\;&nbsp\;Kapelník a kytarista Peter Sámel z kapely Metalinda k tomu dodává: „Citron je pre mňa kapela ktorá\, začala éru Heavy Metalu v Československu. Najskôr Rock\, potom Heavy Metal a jeho energia\, ma pohltila úplne celého. Malo to za následok vznik slovenskej skupiny METALINDA v roku 1985. Vydali jsme 1. LP „METALINDA“\, asi 7x po sebe vyhrali piesničkovou relácii Triangel\, postúpili na najvyšší stupienok a vyhrali Zlatý Triangel. Na něm jsme dostali možnosť natočiť cely koncert a odvysielať v televízii\, kde jsme se stretli aj s Láďom Křížkom\, neboť jsme mali spoločnú šatňu. Doteraz spomíname na zážitky s chalanmi z kapely Citron. Už vtedy sme sa bavili o spoločných koncertoch. Tešíme sa\, a pri spojení Metalinda a Citron neostane ani jeden fanúšik určite sklamaný.“&nbsp\;Program koncertů:19:00 otevření sálů19:30 - 20:20 ALDABRA20:45&nbsp\;- 22:00 METALINDA&nbsp\;22:30 - 23:30 CITRON&nbsp\;&nbsp\;&nbsp\;Pojďte vzpomínat\, pojďte si zazpívat\, pojďte si zapařit …těšíme se na vás!
LOCATION:Rosice
END:VEVENT
END:VCALENDAR