BEGIN:VCALENDAR
VERSION:2.0
CALSCALE:GREGORIAN
PRODID:-//MyApp//Calendar 1.0//EN
BEGIN:VEVENT
METHOD:PUBLISH
UID:46030@regionalniportaly.cz
DTSTAMP:20260426T034954Z
DTSTART;VALUE=DATE:20241022
DTEND;VALUE=DATE:20241023
SUMMARY:Bezplatná právnická poradna
DESCRIPTION:Cílem poradny je nabídnout pomoc převážně v oblasti rodinného a pracovního práva tak\, aby klienti získaly základní přehled o svých právech\, povinnostech a možnostech dalšího postupu.
LOCATION:Rosice
END:VEVENT
END:VCALENDAR