BEGIN:VCALENDAR
VERSION:2.0
CALSCALE:GREGORIAN
PRODID:-//MyApp//Calendar 1.0//EN
BEGIN:VEVENT
METHOD:PUBLISH
UID:43155@regionalniportaly.cz
DTSTAMP:20260422T161636Z
DTSTART;VALUE=DATE:20240531
DTEND;VALUE=DATE:20240601
SUMMARY:Princezna na hrášku
DESCRIPTION:
LOCATION:Zbýšov
END:VEVENT
END:VCALENDAR