BEGIN:VCALENDAR
VERSION:2.0
CALSCALE:GREGORIAN
PRODID:-//MyApp//Calendar 1.0//EN
BEGIN:VEVENT
METHOD:PUBLISH
UID:42879@regionalniportaly.cz
DTSTAMP:20260422T195157Z
DTSTART;VALUE=DATE:20240521
DTEND;VALUE=DATE:20240522
SUMMARY:Pohádkové hity...
DESCRIPTION:
LOCATION:Zbýšov
END:VEVENT
END:VCALENDAR