BEGIN:VCALENDAR
VERSION:2.0
CALSCALE:GREGORIAN
PRODID:-//MyApp//Calendar 1.0//EN
BEGIN:VEVENT
METHOD:PUBLISH
UID:42823@regionalniportaly.cz
DTSTAMP:20260422T161620Z
DTSTART;VALUE=DATE:20240517
DTEND;VALUE=DATE:20240518
SUMMARY:Garfield ve filmu
DESCRIPTION:
LOCATION:Zbýšov
END:VEVENT
END:VCALENDAR