BEGIN:VCALENDAR
VERSION:2.0
CALSCALE:GREGORIAN
PRODID:-//MyApp//Calendar 1.0//EN
BEGIN:VEVENT
METHOD:PUBLISH
UID:42067@regionalniportaly.cz
DTSTAMP:20260425T203101Z
DTSTART;VALUE=DATE:20250329
DTEND;VALUE=DATE:20250330
SUMMARY:Anna K.
DESCRIPTION:Koncert přední české zpěvačky v KD Cristal na němž představí své nové album Údolí včel. Recenze o něm hovoří jako o nejlepším albu Anniny dosavadní tvorby a jako o jednom z nejsilnějších alb tuzemského mainstreamu.
LOCATION:Rosice
END:VEVENT
END:VCALENDAR