BEGIN:VCALENDAR
VERSION:2.0
CALSCALE:GREGORIAN
PRODID:-//MyApp//Calendar 1.0//EN
BEGIN:VEVENT
METHOD:PUBLISH
UID:42066@regionalniportaly.cz
DTSTAMP:20260425T134021Z
DTSTART;VALUE=DATE:20250620
DTEND;VALUE=DATE:20250621
SUMMARY:Roman Horký 60 KAMELOT "Zaprášené diamanty Tour 2024“
DESCRIPTION:Koncert se koná&nbsp\;v rámci turné Roman Horký "60"&nbsp\;na nádvoří rosického zámku.&nbsp\;Otevření areálu 18:30.Začátek koncertu 20:00.Vstupné v předprodeji:400 Kč na stání480 Kč na sezeníVstupné na místě:450 Kč na stání530 Kč na sezeníObčerstvení zajištěno.
LOCATION:Rosice
END:VEVENT
END:VCALENDAR