BEGIN:VCALENDAR
VERSION:2.0
CALSCALE:GREGORIAN
PRODID:-//MyApp//Calendar 1.0//EN
BEGIN:VEVENT
METHOD:PUBLISH
UID:41273@regionalniportaly.cz
DTSTAMP:20260422T124722Z
DTSTART;VALUE=DATE:20240405
DTEND;VALUE=DATE:20240406
SUMMARY:GUMP- JSME DVOJKA
DESCRIPTION:
LOCATION:Zbýšov
END:VEVENT
END:VCALENDAR