BEGIN:VCALENDAR
VERSION:2.0
CALSCALE:GREGORIAN
PRODID:-//MyApp//Calendar 1.0//EN
BEGIN:VEVENT
METHOD:PUBLISH
UID:40869@regionalniportaly.cz
DTSTAMP:20260422T161656Z
DTSTART;VALUE=DATE:20240322
DTEND;VALUE=DATE:20240323
SUMMARY:Gabriela Soukalová: Pravda se pořád vyplatí
DESCRIPTION:
LOCATION:Zbýšov
END:VEVENT
END:VCALENDAR