BEGIN:VCALENDAR
VERSION:2.0
CALSCALE:GREGORIAN
PRODID:-//MyApp//Calendar 1.0//EN
BEGIN:VEVENT
METHOD:PUBLISH
UID:40745@regionalniportaly.cz
DTSTAMP:20260422T131355Z
DTSTART;VALUE=DATE:20240329
DTEND;VALUE=DATE:20240330
SUMMARY:Godzilla x Kong: Nové impérium
DESCRIPTION:Epická bitva pokračuje! Filmový Monsterverse společnosti Legendary Pictures navazuje na explozivní souboj&nbsp\;Godzilla vs. Kong&nbsp\;zcela novým dobrodružstvím\, které postaví všemocného Konga a obávanou Godzillu proti kolosální neobjevené hrozbě ukryté v našem světě\, která ohrožuje jejich existenci - a také naši vlastní.&nbsp\;Godzilla x Kong: Nové impériumse hlouběji zabývá historií těchto titánů a jejich původem\, stejně jako tajemstvími Ostrova lebek a dalších míst\, přičemž odhaluje mýtickou bitvu\, která pomohla zformovat tyto výjimečné bytosti a navždy je spojila s lidstvem.&nbsp\;(Vertical Entertainment)
LOCATION:Zbýšov
END:VEVENT
END:VCALENDAR