BEGIN:VCALENDAR
VERSION:2.0
CALSCALE:GREGORIAN
PRODID:-//MyApp//Calendar 1.0//EN
BEGIN:VEVENT
METHOD:PUBLISH
UID:40709@regionalniportaly.cz
DTSTAMP:20260422T225256Z
DTSTART;VALUE=DATE:20240514
DTEND;VALUE=DATE:20240515
SUMMARY:Marie Rottrová ve Zbýšově
DESCRIPTION:Ojedinělý koncert naší nejlepší zpěvačky\, zazní hity jako Skořápky ořechů\, Lásko\, voníš deštěm\, apod.
LOCATION:Zbýšov
END:VEVENT
END:VCALENDAR