BEGIN:VCALENDAR
VERSION:2.0
CALSCALE:GREGORIAN
PRODID:-//MyApp//Calendar 1.0//EN
BEGIN:VEVENT
METHOD:PUBLISH
UID:40092@regionalniportaly.cz
DTSTAMP:20260422T210255Z
DTSTART;VALUE=DATE:20240315
DTEND;VALUE=DATE:20240316
SUMMARY:Kung Fu Panda 4
DESCRIPTION:
LOCATION:Zbýšov
END:VEVENT
END:VCALENDAR