BEGIN:VCALENDAR
VERSION:2.0
CALSCALE:GREGORIAN
PRODID:-//MyApp//Calendar 1.0//EN
BEGIN:VEVENT
METHOD:PUBLISH
UID:40091@regionalniportaly.cz
DTSTAMP:20260422T192514Z
DTSTART;VALUE=DATE:20240308
DTEND;VALUE=DATE:20240309
SUMMARY:Manželé Stodolovi
DESCRIPTION:
LOCATION:Zbýšov
END:VEVENT
END:VCALENDAR