BEGIN:VCALENDAR
VERSION:2.0
CALSCALE:GREGORIAN
PRODID:-//MyApp//Calendar 1.0//EN
BEGIN:VEVENT
METHOD:PUBLISH
UID:39543@regionalniportaly.cz
DTSTAMP:20260423T154013Z
DTSTART;VALUE=DATE:20240216
DTEND;VALUE=DATE:20240217
SUMMARY:Franta mimozemšťan
DESCRIPTION:
LOCATION:Zbýšov
END:VEVENT
END:VCALENDAR