BEGIN:VCALENDAR
VERSION:2.0
CALSCALE:GREGORIAN
PRODID:-//MyApp//Calendar 1.0//EN
BEGIN:VEVENT
METHOD:PUBLISH
UID:38626@regionalniportaly.cz
DTSTAMP:20260422T105310Z
DTSTART;VALUE=DATE:20240119
DTEND;VALUE=DATE:20240120
SUMMARY:Aristokratka ve varu
DESCRIPTION:
LOCATION:Zbýšov
END:VEVENT
END:VCALENDAR