BEGIN:VCALENDAR
VERSION:2.0
CALSCALE:GREGORIAN
PRODID:-//MyApp//Calendar 1.0//EN
BEGIN:VEVENT
METHOD:PUBLISH
UID:38463@regionalniportaly.cz
DTSTAMP:20260423T055704Z
DTSTART;VALUE=DATE:20241013
DTEND;VALUE=DATE:20241014
SUMMARY:Kája a Bambuláček " Bambulková show"
DESCRIPTION:Kája a Bambuláček - Bambulková showBambulková šou 2024&nbsp\;s Kájou a Bambuláčkem je tady! Přijďte si s dětmi užít báječné představení plné písniček\, tanečků a soutěží! Zazní nové písničky z připravovaného CD\, ale nebudou chybět ani známé hity jako je Kulička\, Kakadu anebo Dalmatin! Během představení se zaručeně nebudou bavit jenom děti\, ale i jejich rodiče!Těší se na vás Kája a Bambuláček!KDO JE KÁJA A BAMBULÁČEK?Kája byla úplně obyčejná holka. Vše se ale změnilo\, když potkala Bambuláčka. Malé legrační stvoření\, se kterým se Kája skamarádila a od té doby jsou nerozlučná dvojka. Kája s Bambuláčkem poznává celý svět a ve svém YouTubovém pořadu "Kája a Bambuláček" společně baví spoustu malých\, ale i větších diváků.https://www.kajadetem.cz/Děti do 2 let( 2.narozeniny)&nbsp\;bez nároku na sedadlo vstup zdarma.
LOCATION:Zbýšov
END:VEVENT
END:VCALENDAR