BEGIN:VCALENDAR
VERSION:2.0
CALSCALE:GREGORIAN
PRODID:-//MyApp//Calendar 1.0//EN
BEGIN:VEVENT
METHOD:PUBLISH
UID:38460@regionalniportaly.cz
DTSTAMP:20260422T111404Z
DTSTART;VALUE=DATE:20240112
DTEND;VALUE=DATE:20240113
SUMMARY:Jeden gól
DESCRIPTION:
LOCATION:Zbýšov
END:VEVENT
END:VCALENDAR