BEGIN:VCALENDAR
VERSION:2.0
CALSCALE:GREGORIAN
PRODID:-//MyApp//Calendar 1.0//EN
BEGIN:VEVENT
METHOD:PUBLISH
UID:38040@regionalniportaly.cz
DTSTAMP:20260422T055857Z
DTSTART;VALUE=DATE:20240107
DTEND;VALUE=DATE:20240108
SUMMARY:Zdeněk Izer " Vyndavací zas tam dací"-přístavek
DESCRIPTION:
LOCATION:Zbýšov
END:VEVENT
END:VCALENDAR