BEGIN:VCALENDAR
VERSION:2.0
CALSCALE:GREGORIAN
PRODID:-//MyApp//Calendar 1.0//EN
BEGIN:VEVENT
METHOD:PUBLISH
UID:37783@regionalniportaly.cz
DTSTAMP:20260422T073314Z
DTSTART;VALUE=DATE:20231214
DTEND;VALUE=DATE:20231215
SUMMARY:Vánoce s Tetinami
DESCRIPTION:Divadlo pro děti\, Vánose s&nbsp\;Tetinami.
LOCATION:Zbýšov
END:VEVENT
END:VCALENDAR