BEGIN:VCALENDAR
VERSION:2.0
CALSCALE:GREGORIAN
PRODID:-//MyApp//Calendar 1.0//EN
BEGIN:VEVENT
METHOD:PUBLISH
UID:37682@regionalniportaly.cz
DTSTAMP:20260422T055744Z
DTSTART;VALUE=DATE:20231215
DTEND;VALUE=DATE:20231216
SUMMARY:Wonka
DESCRIPTION:Film&nbsp\;Wonka&nbsp\;je založen na výjimečné postavě\, která je ústřední postavou knihy „Karlík a továrna na čokoládu“\, nejkultovnější dětské knihy&nbsp\;Roalda Dahla&nbsp\;a jedné z nejprodávanějších dětských knih všech dob\, a vypráví podivuhodný příběh o talentovaném Willy Wonkovi.
LOCATION:Zbýšov
END:VEVENT
END:VCALENDAR