BEGIN:VCALENDAR
VERSION:2.0
CALSCALE:GREGORIAN
PRODID:-//MyApp//Calendar 1.0//EN
BEGIN:VEVENT
METHOD:PUBLISH
UID:37679@regionalniportaly.cz
DTSTAMP:20260422T120803Z
DTSTART;VALUE=DATE:20231215
DTEND;VALUE=DATE:20231216
SUMMARY:Lítá  v tom
DESCRIPTION:Romantická komedie o&nbsp\;tom\, co všechno se může stát\, když se zapletete do jedné nevinné lži.
LOCATION:Zbýšov
END:VEVENT
END:VCALENDAR