BEGIN:VCALENDAR
VERSION:2.0
CALSCALE:GREGORIAN
PRODID:-//MyApp//Calendar 1.0//EN
BEGIN:VEVENT
METHOD:PUBLISH
UID:37642@regionalniportaly.cz
DTSTAMP:20260422T073322Z
DTSTART;VALUE=DATE:20231208
DTEND;VALUE=DATE:20231209
SUMMARY:Šťastné a krvavé
DESCRIPTION:Hororová komedie o americké rodině\, která netuší\, že zapadnout mezi svérázné skandinávské venkovany\, bude její nejmenší problém.
LOCATION:Zbýšov
END:VEVENT
END:VCALENDAR