BEGIN:VCALENDAR
VERSION:2.0
CALSCALE:GREGORIAN
PRODID:-//MyApp//Calendar 1.0//EN
BEGIN:VEVENT
METHOD:PUBLISH
UID:37145@regionalniportaly.cz
DTSTAMP:20260422T080238Z
DTSTART;VALUE=DATE:20240214
DTEND;VALUE=DATE:20240215
SUMMARY:Miroslav Donutil - Na kus řeč
DESCRIPTION:
LOCATION:Zbýšov
END:VEVENT
END:VCALENDAR