BEGIN:VCALENDAR
VERSION:2.0
CALSCALE:GREGORIAN
PRODID:-//MyApp//Calendar 1.0//EN
BEGIN:VEVENT
METHOD:PUBLISH
UID:36955@regionalniportaly.cz
DTSTAMP:20260426T034854Z
DTSTART;VALUE=DATE:20231210
DTEND;VALUE=DATE:20231211
SUMMARY:Standova dílna - Betlém
DESCRIPTION:Betlém zvládnou vyrobit a vymalovat i malé děti s doprovodem.
LOCATION:Rosice
END:VEVENT
END:VCALENDAR