BEGIN:VCALENDAR
VERSION:2.0
CALSCALE:GREGORIAN
PRODID:-//MyApp//Calendar 1.0//EN
BEGIN:VEVENT
METHOD:PUBLISH
UID:36880@regionalniportaly.cz
DTSTAMP:20260422T034934Z
DTSTART;VALUE=DATE:20231117
DTEND;VALUE=DATE:20231118
SUMMARY:Její tělo
DESCRIPTION:Film Její tělo je inspirovaný reálným příběhem Andrey Absolonové\, která byla několikanásobnou mistryní ČR ve skoku do vody\, držitelkou bronzové medaile z mistrovství Evropy a členkou českého olympijského národního mužstva. Tedy až do té doby\, než její život obrátilo naruby vážné zranění...
LOCATION:Zbýšov
END:VEVENT
END:VCALENDAR