BEGIN:VCALENDAR
VERSION:2.0
CALSCALE:GREGORIAN
PRODID:-//MyApp//Calendar 1.0//EN
BEGIN:VEVENT
METHOD:PUBLISH
UID:36877@regionalniportaly.cz
DTSTAMP:20260422T180811Z
DTSTART;VALUE=DATE:20231220
DTEND;VALUE=DATE:20231221
SUMMARY:Vánoční koncert Kláry Jelínkové - JeJe ensemble
DESCRIPTION:Multižánrový koncert od klasické hudby\, přes jazz\, operetu\, muzikál až po současnou populární tvorbu.&nbsp\;Účinkují:Klára JelínkováTomáš JeřábekFrantišek Jeřábek
LOCATION:Říčany
END:VEVENT
END:VCALENDAR