BEGIN:VCALENDAR
VERSION:2.0
CALSCALE:GREGORIAN
PRODID:-//MyApp//Calendar 1.0//EN
BEGIN:VEVENT
METHOD:PUBLISH
UID:36852@regionalniportaly.cz
DTSTAMP:20260426T035053Z
DTSTART;VALUE=DATE:20231201
DTEND;VALUE=DATE:20231202
SUMMARY:Hlídání dětí
DESCRIPTION:Ve stejném čase je možné využít coworkingovou místnost\, kde jsou k zapůjčení i 2 notebooky.
LOCATION:Rosice
END:VEVENT
END:VCALENDAR