BEGIN:VCALENDAR
VERSION:2.0
CALSCALE:GREGORIAN
PRODID:-//MyApp//Calendar 1.0//EN
BEGIN:VEVENT
METHOD:PUBLISH
UID:36750@regionalniportaly.cz
DTSTAMP:20260426T035124Z
DTSTART;VALUE=DATE:20231126
DTEND;VALUE=DATE:20231127
SUMMARY:Workshop - fermentování potravin
DESCRIPTION:Praktický workshop kdy si domů odnesete sklenici naložené zeleniny a spoustu zajímavých poznatků. Součástí bude i ochutnávka z kuchyně Vládi Sojky ze Zkvašena. Akce proběhne v kuchyňce (jazykovně) SVČ. Cena 250 Kč
LOCATION:Rosice
END:VEVENT
END:VCALENDAR