BEGIN:VCALENDAR
VERSION:2.0
CALSCALE:GREGORIAN
PRODID:-//MyApp//Calendar 1.0//EN
BEGIN:VEVENT
METHOD:PUBLISH
UID:36404@regionalniportaly.cz
DTSTAMP:20260422T055838Z
DTSTART;VALUE=DATE:20231113
DTEND;VALUE=DATE:20231114
SUMMARY:Jaroslav Dušek -Čtyři dohody- přístavek
DESCRIPTION:
LOCATION:Zbýšov
END:VEVENT
END:VCALENDAR