BEGIN:VCALENDAR
VERSION:2.0
CALSCALE:GREGORIAN
PRODID:-//MyApp//Calendar 1.0//EN
BEGIN:VEVENT
METHOD:PUBLISH
UID:35935@regionalniportaly.cz
DTSTAMP:20260422T124753Z
DTSTART;VALUE=DATE:20240411
DTEND;VALUE=DATE:20240412
SUMMARY:Můžem i s mužem 2
DESCRIPTION:Podobnost se Seriálem sex ve městě je&nbsp\;čistě&nbsp\;náhodnáVtipná autorská feérie 4 žen\, 4 archetypů\, vznikla z&nbsp\;potřeby podívat se pravdě do očí...Autorské představení.Co vše se odkryje a&nbsp\;kolik slupek oloupe během jedné narozeninové párty. A&nbsp\;po čem všichni touží\, no přece po lásce\, po tom nádherném stavu milovat a&nbsp\;být milován....\, co ženy dělají\, když si myslí\, že je nikdo nevidí.Délka představení: 105 min.Produkce: VIP Art Company z.s
LOCATION:Zbýšov
END:VEVENT
END:VCALENDAR