BEGIN:VCALENDAR
VERSION:2.0
CALSCALE:GREGORIAN
PRODID:-//MyApp//Calendar 1.0//EN
BEGIN:VEVENT
METHOD:PUBLISH
UID:35933@regionalniportaly.cz
DTSTAMP:20260422T005029Z
DTSTART;VALUE=DATE:20231015
DTEND;VALUE=DATE:20231016
SUMMARY:Tlapková patrola ve velkofilmu
DESCRIPTION:Animovaný / Dobrodružný / Komedie / RodinnýUSA / Kanada\,&nbsp\;2023\,&nbsp\;93 minRežie:&nbsp\;Cal BrunkerScénář:&nbsp\;Cal Brunker\,&nbsp\;Bob BarlenHudba:&nbsp\;Pinar ToprakHrají:&nbsp\;Mckenna Grace\,&nbsp\;Kristen Bell\,&nbsp\;James Marsden\,&nbsp\;Taraji P. Henson\,&nbsp\;Dax Shepard\,&nbsp\;Tyler Perry\,&nbsp\;Christian Convery\,&nbsp\;Lil Rel Howery\,&nbsp\;Jake T. Austin\,&nbsp\;Yara Shahidi&nbsp\;(více)(další profese)Když se přímo na Adventure City zřítí magický meteorit\, získají pejsci z&nbsp\;Tlapkové patroly superschopnosti\, které je promění v&nbsp\;mocné tlapky! Například nejmenší člence týmu\, Skye\, se díky novým schopnostem splní velký sen. Vše se ovšem zásadně zvrtne\, když se zlému bývalému starostovi Humdingerovi podaří utéct z&nbsp\;vězení. Společně s&nbsp\;Victorií Vance\, šílenou vědkyní\, která je meteoritem přímo posedlá\, se pokusí pejsky o jejich superschopnosti připravit ve snaze stát se superpadouchem. Tlapková patrola musí oba dva zastavit dřív\, než bude pro Adventure City pozdě. A Skye se přesvědčí o tom\, že i malinké štěně může znamenat veliký rozdíl.&nbsp\;(CinemArt)
LOCATION:Zbýšov
END:VEVENT
END:VCALENDAR