BEGIN:VCALENDAR
VERSION:2.0
CALSCALE:GREGORIAN
PRODID:-//MyApp//Calendar 1.0//EN
BEGIN:VEVENT
METHOD:PUBLISH
UID:35932@regionalniportaly.cz
DTSTAMP:20260423T090915Z
DTSTART;VALUE=DATE:20231013
DTEND;VALUE=DATE:20231014
SUMMARY:Esa z pralesa 2
DESCRIPTION:Animovaný / DobrodružnýFrancie\,&nbsp\;2023\,&nbsp\;89 minRežie:&nbsp\;Laurent Bru\,&nbsp\;Yannick Moulin\,&nbsp\;Benoît SomvilleScénář:&nbsp\;David Alaux\,&nbsp\;Eric Tosti\,&nbsp\;Jean-François TostiHudba:&nbsp\;Olivier CussacHrají:&nbsp\;Philippe Bozo\,&nbsp\;Laurent Morteau\,&nbsp\;Pascal Casanova\,&nbsp\;Emmanuel Curtil\,&nbsp\;Paul Borne\,&nbsp\;Léopoldine Serre\,&nbsp\;Frédéric Cerdal\,&nbsp\;Jérémie Covillault\,&nbsp\;Gauthier Battoue&nbsp\;(více)(další profese)S.O.S.! Tajemný superpadouch pokryl džungli toxickou růžovou pěnou\, která vybouchne při kontaktu s vodou! Na pomoc jsou přivoláni ti nejlepší z nejlepších. Esa z pralesa! Do období dešťů zbývá méně než měsíc. Naši hrdinové\, ke kterým se přidávají noví spojenci\, musí najít protijed. Od ledových zemí na severu\, přes Evropu\, Asii a Střední východ se vydávají na své největší dobrodružství. Tentokrát čelí protivníkovi chytřejšímu a ďábelštějšímu než kdy předtím. Pro Maurice a jeho přátele začíná boj za záchranu jejich domova!&nbsp\;(Bioscop)
LOCATION:Zbýšov
END:VEVENT
END:VCALENDAR