BEGIN:VCALENDAR
VERSION:2.0
CALSCALE:GREGORIAN
PRODID:-//MyApp//Calendar 1.0//EN
BEGIN:VEVENT
METHOD:PUBLISH
UID:35729@regionalniportaly.cz
DTSTAMP:20260422T073255Z
DTSTART;VALUE=DATE:20231006
DTEND;VALUE=DATE:20231007
SUMMARY:STVOŘITEL
DESCRIPTION:
LOCATION:Zbýšov
END:VEVENT
END:VCALENDAR