BEGIN:VCALENDAR
VERSION:2.0
CALSCALE:GREGORIAN
PRODID:-//MyApp//Calendar 1.0//EN
BEGIN:VEVENT
METHOD:PUBLISH
UID:35437@regionalniportaly.cz
DTSTAMP:20260426T035107Z
DTSTART;VALUE=DATE:20231022
DTEND;VALUE=DATE:20231023
SUMMARY:Halloweenský večírek
DESCRIPTION:Dětmi i rodiči oblíbená&nbsp\;BAMBRELLA&nbsp\;chystá velkolepou podzimní&nbsp\; akci pro úsměvy vašich dětí pod názvem Halloweenský večírek ve stylu Harryho Potera v Rosicích.Tento úžasný "odpolední večírek" navazuje již na řadu úspěšných akcí\, které&nbsp\;BAMBRELLA&nbsp\;organizuje pro své příznivce.&nbsp\;Tentokrát se společně podíváme do světa kouzel\, her a tajemného hradu v Bradavicích.....NA CO VŠECHNO SE MŮŽETE TEŠIT:kreativní tvoření a spousta zábavných úkolů pro děti každého věkuskvělá zábava po celé odpolednedivadelní showspolečenský disco tanecmalování na obličejpletení copánkůa spousta dalších překvapení...
LOCATION:Rosice
END:VEVENT
END:VCALENDAR