BEGIN:VCALENDAR
VERSION:2.0
CALSCALE:GREGORIAN
PRODID:-//MyApp//Calendar 1.0//EN
BEGIN:VEVENT
METHOD:PUBLISH
UID:35129@regionalniportaly.cz
DTSTAMP:20260426T020252Z
DTSTART;VALUE=DATE:20231006
DTEND;VALUE=DATE:20231007
SUMMARY:Hlídání dětí s coworkingem
DESCRIPTION:Od pondělí 18.9.2023 opět nabízíme rodičům službu hlídání dětí (v herně RC Kašpárkov) s možností coworkingu.
LOCATION:Rosice
END:VEVENT
END:VCALENDAR