BEGIN:VCALENDAR
VERSION:2.0
CALSCALE:GREGORIAN
PRODID:-//MyApp//Calendar 1.0//EN
BEGIN:VEVENT
METHOD:PUBLISH
UID:35031@regionalniportaly.cz
DTSTAMP:20260426T001036Z
DTSTART;VALUE=DATE:20230926
DTEND;VALUE=DATE:20230927
SUMMARY:Beseda - Jak nastartovat imunitu
DESCRIPTION:Další setkání v Kašpárkovské herně s lektorkou Anetou Hrazdilovou (lektorkou Feng Shui). Tentokrát o tom\, jaké výzvy nám přináší podzim
LOCATION:Rosice
END:VEVENT
END:VCALENDAR