BEGIN:VCALENDAR
VERSION:2.0
CALSCALE:GREGORIAN
PRODID:-//MyApp//Calendar 1.0//EN
BEGIN:VEVENT
METHOD:PUBLISH
UID:34471@regionalniportaly.cz
DTSTAMP:20260425T222804Z
DTSTART;VALUE=DATE:20230915
DTEND;VALUE=DATE:20230916
SUMMARY:Zoo zvídálci
DESCRIPTION:Nový kroužek v Kašpárkově. Tentokrát pro předškoláky a mladší školáky. \nCo myslíte\, jaká zvířátka nás přijdou do herny navštívit? \nPřihlášky jsou dostupné na našem webu.
LOCATION:Rosice
END:VEVENT
END:VCALENDAR