BEGIN:VCALENDAR
VERSION:2.0
CALSCALE:GREGORIAN
PRODID:-//MyApp//Calendar 1.0//EN
BEGIN:VEVENT
METHOD:PUBLISH
UID:34325@regionalniportaly.cz
DTSTAMP:20260422T105408Z
DTSTART;VALUE=DATE:20230901
DTEND;VALUE=DATE:20230902
SUMMARY:PAF Ostopovice 2023
DESCRIPTION:PAF Ostopovicepátek 1. 9. 2023Ostopovice u Brna+49° 9' 21.23"\, +16° 32' 34.33"FB eventPAF na konci léta se vrací již posedmé pod oblouky nikdy nedostavěné dálnice v Ostopovicích.&nbsp\;V pátek 1. září&nbsp\;se na známém místě u Brna představí na sedm mezinárodních hudebních projektů\, výtvarná instalace s živým čtením nebo projekce toho nejčerstvějšího z českého pohyblivého obrazu.&gt\;&gt\; LINE-UP &lt\;&lt\;PRIMITIVE ART (IT)KENICHI IWASA (JP/UK)QOW (EG/CZ)TIMMI (SK/CZ)EXPANDCOLLAPSE (CZ)ISAMA ZING (SK)DJ GÄP (SK)VERONIKA ŠPUNDOVÁ (CZ)JINÉ VIZE CZ 2022více informací o line-upu naleznete na pifpaf.cz&nbsp\;PRAKTICKÉ INFO&nbsp\;Přesná lokace: +49° 9' 21.23"\, +16° 32' 34.33".Na místo je možné dopravit se vlastním autem a zaparkovat podél cesty vedoucí k místu konání akce.Spaní je možné ve vlastních stanech v areálu festivalu (zdarma).K dopravě na místo bude možné využít denních i nočních spojů MHD\, cesta z centra Brna trvá cca 25–35 min. Příklad cesty: tramvaj č. 8 ze zastávky Brno\, Hlavní nádraží na zastávku Ústřední hřbitov\, dále autobusem na zastávku Ostopovice\, rozcestí a poté cca 500 m pěšky ulicí Krátká nahoru do kopce – trasa od zastávky bude značena.Událost se koná za přispění Ministerstva kultury ČR.Pořadatelem je kulturní platforma PAF.&nbsp\;_________________________________________________________PAF OstopoviceFriday 1st of September 2023Ostopovice u Brna+49° 9' 21.23"\, +16° 32' 34.33"FB eventThe PAF platform returns for the seventh time under the arches of the unfinished highway in the town of Ostopovice.&nbsp\;On Friday\, September 1st\,&nbsp\;a total of seven international music projects\, art installation with live reading\, and screenings of the&nbsp\; newest Czech moving pictures are all going to take place near Brno.&nbsp\;&gt\;&gt\; LINE-UP &lt\;&lt\;PRIMITIVE ART (IT)KENICHI IWASA (JP/UK)QOW (EG/CZ)TIMMI (SK/CZ)EXPANDCOLLAPSE (CZ)ISAMA ZING (SK)DJ GÄP (SK)VERONIKA ŠPUNDOVÁ (CZ)JINÉ VIZE CZ 2022more information at pifpaf.czPRACTICAL INFO&nbsp\;Exact location: +49° 9' 21.23"\, +16° 32' 34.33".It is possible to drive to the venue with your own car and park along the road leading to the venue.Sleeping is possible in your own tents in the festival area (free of charge).It will be possible to use day and night public transport connections to get to the place\, the journey from the center of Brno takes approx. 25-35 minutes. Example of a route: tram no. 8 from the Brno stop\, Hlavní nádraží to the Ústřední hřbitov stop\, then by bus to the Ostopovice stop\, crossroad and then about 500 m on foot along Krátká street up the hill - the route from the stop will be signposted.This event is supported by Ministry of Culture of the Czech Republic.
LOCATION:Ostopovice
END:VEVENT
END:VCALENDAR