BEGIN:VCALENDAR
VERSION:2.0
CALSCALE:GREGORIAN
PRODID:-//MyApp//Calendar 1.0//EN
BEGIN:VEVENT
METHOD:PUBLISH
UID:34088@regionalniportaly.cz
DTSTAMP:20260422T181018Z
DTSTART;VALUE=DATE:20240515
DTEND;VALUE=DATE:20240516
SUMMARY:Na Vánoce budu gay
DESCRIPTION:Pikantní komedie o nelehkém životě zadaných heterosexuálních mužů plná groteskních scén \, které vyústí ve velmi překvapivý a nečekaný závěr. Jak získat prosperující řetězec pizzerií a zajistit si skvělou budoucnost!? Stačí tak málo - stát se na Vánoce gayem...
LOCATION:Zbýšov
END:VEVENT
END:VCALENDAR