BEGIN:VCALENDAR
VERSION:2.0
CALSCALE:GREGORIAN
PRODID:-//MyApp//Calendar 1.0//EN
BEGIN:VEVENT
METHOD:PUBLISH
UID:34087@regionalniportaly.cz
DTSTAMP:20260422T161530Z
DTSTART;VALUE=DATE:20240516
DTEND;VALUE=DATE:20240517
SUMMARY:Dokud nás milenky nerozdělí
DESCRIPTION:Brilantní situační komedie plná zvratů a&nbsp\;záměn o&nbsp\;tom\, kolik milenek je zapotřebí ke zkáze jednoho dlouholetého manželství.Rosalie a&nbsp\;Francis rekapitulují své dosavadní manželství a&nbsp\; určitě by se shodli na tom\, že jsou spolu šťastní\, kdyby se právě neprovalilo\, že Francis žije dvojí život.Celá rodina se ocitá v&nbsp\;komickém zmatku\, Rosalie vrací odvetný úder\, dceři se za podivných okolností hroutí manželství a&nbsp\;další postavy celý děj ještě dál humorně zamotávají.
LOCATION:Zbýšov
END:VEVENT
END:VCALENDAR