BEGIN:VCALENDAR
VERSION:2.0
CALSCALE:GREGORIAN
PRODID:-//MyApp//Calendar 1.0//EN
BEGIN:VEVENT
METHOD:PUBLISH
UID:34085@regionalniportaly.cz
DTSTAMP:20260423T140345Z
DTSTART;VALUE=DATE:20240217
DTEND;VALUE=DATE:20240218
SUMMARY:KAROL A KVIDO "Dobrodružství začíná"
DESCRIPTION:Děti do 2 let&nbsp\;bez nároku na sedadlo zdarma.
LOCATION:Zbýšov
END:VEVENT
END:VCALENDAR