BEGIN:VCALENDAR
VERSION:2.0
CALSCALE:GREGORIAN
PRODID:-//MyApp//Calendar 1.0//EN
BEGIN:VEVENT
METHOD:PUBLISH
UID:34084@regionalniportaly.cz
DTSTAMP:20260422T183412Z
DTSTART;VALUE=DATE:20240307
DTEND;VALUE=DATE:20240308
SUMMARY:Zamilovaný sukničkář
DESCRIPTION:Harry Douglas\, záletný americký velvyslanec ve Velké Británii\, řekne své ženě Lois\, že odjíždí na víkend do Skotska hrát golf. Lois naopak Harrymu oznámí\, že bude na víkend v&nbsp\;lázních a&nbsp\;že jejich dcera Debbie odjíždí navštívit kamarádku. Harry se ovšem tajně vrací do prázdného domu\, jelikož si naplánoval milostné dostaveníčko s&nbsp\;přitažlivou sousedkou Marianne.
LOCATION:Zbýšov
END:VEVENT
END:VCALENDAR