BEGIN:VCALENDAR
VERSION:2.0
CALSCALE:GREGORIAN
PRODID:-//MyApp//Calendar 1.0//EN
BEGIN:VEVENT
METHOD:PUBLISH
UID:34081@regionalniportaly.cz
DTSTAMP:20260422T080324Z
DTSTART;VALUE=DATE:20240121
DTEND;VALUE=DATE:20240122
SUMMARY:Drahá legrace
DESCRIPTION:Volné pokračování komedie „Blbec k večeři“Nemusíte mít peníze\, stačí když si lidé kolem myslí\, že je máte!
LOCATION:Zbýšov
END:VEVENT
END:VCALENDAR