BEGIN:VCALENDAR
VERSION:2.0
CALSCALE:GREGORIAN
PRODID:-//MyApp//Calendar 1.0//EN
BEGIN:VEVENT
METHOD:PUBLISH
UID:34020@regionalniportaly.cz
DTSTAMP:20260422T073303Z
DTSTART;VALUE=DATE:20231115
DTEND;VALUE=DATE:20231116
SUMMARY:Dialogy s Krylem
DESCRIPTION:
LOCATION:Zbýšov
END:VEVENT
END:VCALENDAR