BEGIN:VCALENDAR
VERSION:2.0
CALSCALE:GREGORIAN
PRODID:-//MyApp//Calendar 1.0//EN
BEGIN:VEVENT
METHOD:PUBLISH
UID:33905@regionalniportaly.cz
DTSTAMP:20260423T090804Z
DTSTART;VALUE=DATE:20230630
DTEND;VALUE=DATE:20230701
SUMMARY:Spiderman napříč paralelními světy
DESCRIPTION:
LOCATION:Zbýšov
END:VEVENT
END:VCALENDAR