BEGIN:VCALENDAR
VERSION:2.0
CALSCALE:GREGORIAN
PRODID:-//MyApp//Calendar 1.0//EN
BEGIN:VEVENT
METHOD:PUBLISH
UID:33507@regionalniportaly.cz
DTSTAMP:20260422T040859Z
DTSTART;VALUE=DATE:20230609
DTEND;VALUE=DATE:20230610
SUMMARY:Zbýšovské folkové léto
DESCRIPTION:Druhý ročník folkových koncertů ve Zbýšově\, tentokrát zavítají jako hlavní hosté Žalman a spol. a Nerez a Lucia\, vstupenky je možné zakoupit i přímo na místě před koncerty.
LOCATION:Zbýšov
END:VEVENT
END:VCALENDAR