BEGIN:VCALENDAR
VERSION:2.0
CALSCALE:GREGORIAN
PRODID:-//MyApp//Calendar 1.0//EN
BEGIN:VEVENT
METHOD:PUBLISH
UID:33200@regionalniportaly.cz
DTSTAMP:20260422T054810Z
DTSTART;VALUE=DATE:20230518
DTEND;VALUE=DATE:20230519
SUMMARY:O začarovaném mlýně
DESCRIPTION:
LOCATION:Zbýšov
END:VEVENT
END:VCALENDAR