BEGIN:VCALENDAR
VERSION:2.0
CALSCALE:GREGORIAN
PRODID:-//MyApp//Calendar 1.0//EN
BEGIN:VEVENT
METHOD:PUBLISH
UID:33015@regionalniportaly.cz
DTSTAMP:20260422T072241Z
DTSTART;VALUE=DATE:20230519
DTEND;VALUE=DATE:20230520
SUMMARY:Rychle a zběsile 10
DESCRIPTION:
LOCATION:Zbýšov
END:VEVENT
END:VCALENDAR