BEGIN:VCALENDAR
VERSION:2.0
CALSCALE:GREGORIAN
PRODID:-//MyApp//Calendar 1.0//EN
BEGIN:VEVENT
METHOD:PUBLISH
UID:32644@regionalniportaly.cz
DTSTAMP:20260425T204402Z
DTSTART;VALUE=DATE:20230511
DTEND;VALUE=DATE:20230512
SUMMARY:Beseda - Přírodní kosmetika
DESCRIPTION:Krémy přesně na míru vaší pleti a potřebám\, to je téma dalšího workshopu v Kašpárkovské herně
LOCATION:Rosice
END:VEVENT
END:VCALENDAR