BEGIN:VCALENDAR
VERSION:2.0
CALSCALE:GREGORIAN
PRODID:-//MyApp//Calendar 1.0//EN
BEGIN:VEVENT
METHOD:PUBLISH
UID:32570@regionalniportaly.cz
DTSTAMP:20260421T202030Z
DTSTART;VALUE=DATE:20230421
DTEND;VALUE=DATE:20230422
SUMMARY:Myška a medvěd na cestách
DESCRIPTION:
LOCATION:Zbýšov
END:VEVENT
END:VCALENDAR